BEGIN:VCALENDAR
VERSION:2.0
PRODID:-//hacksw/handcal//NONSGML v1.0//EN
CALSCALE:GREGORIAN
BEGIN:VEVENT
LOCATION:Théâtre Jérôme Savary
DESCRIPTION:NEST &#8211; CDN transfrontalier de Thionville &#8211; Grand EstThéâtre &#8211; 1h15Bord plateau avec SOS Méditerranée...
DTSTART:20250124T200000
DTEND:20250125
SUMMARY:Abysses
URL;VALUE=URI:https://www.theatrejeromesavary.fr/evenement/abysses/
DTSTAMP:20260424T141831
UID:69eb7bb74b018
END:VEVENT
END:VCALENDAR