BEGIN:VCALENDAR
VERSION:2.0
PRODID:-//hacksw/handcal//NONSGML v1.0//EN
CALSCALE:GREGORIAN
BEGIN:VEVENT
LOCATION:102 Grand Rue 34750 Villeneuve-lès-Maguelone
DESCRIPTION:Ottilie [B] Autour de la création en cours BrèchesConférence participative avec Ottilie [B] où vous...
DTSTART:20260521T190000
DTEND:20260522
SUMMARY:Conférence musicale participative
URL;VALUE=URI:https://www.theatrejeromesavary.fr/evenement/conference-musciale-participative/
DTSTAMP:20260421T144430
UID:69e78d4e5c329
END:VEVENT
END:VCALENDAR