BEGIN:VCALENDAR
VERSION:2.0
PRODID:-//hacksw/handcal//NONSGML v1.0//EN
CALSCALE:GREGORIAN
BEGIN:VEVENT
LOCATION:Théâtre municipal Jérôme Savary 34750 Villeneuve-lès-Maguelone
DESCRIPTION:Julie Benegmos et Marion Coutarel Biennale des Arts de la Scène en Méditerranée  Initiée par...
DTSTART:20251107T210000
DTEND:20251108
SUMMARY:Et tout est rentré dans le désordre
URL;VALUE=URI:https://www.theatrejeromesavary.fr/evenement/et-tout-est-rentre-dans-le-desordre/
DTSTAMP:20260424T102435
UID:69eb44e3ba66e
END:VEVENT
END:VCALENDAR