BEGIN:VCALENDAR
VERSION:2.0
PRODID:-//hacksw/handcal//NONSGML v1.0//EN
CALSCALE:GREGORIAN
BEGIN:VEVENT
LOCATION:541 Avenue de Mireval 34750 Villeneuve-lès-Maguelone
DESCRIPTION:Collectif La Vermine Avec le soutien de Montpellier Méditerranée Métropole Fortune au comptoir, trois petites...
DTSTART:20260212T190000
DTEND:20260213
SUMMARY:Fortune au comptoir
URL;VALUE=URI:https://www.theatrejeromesavary.fr/evenement/fortune-au-comptoir-2/
DTSTAMP:20260420T044238
UID:69e5aebeae397
END:VEVENT
END:VCALENDAR