BEGIN:VCALENDAR
VERSION:2.0
PRODID:-//hacksw/handcal//NONSGML v1.0//EN
CALSCALE:GREGORIAN
BEGIN:VEVENT
LOCATION:93 Rue des Sports 34750 Villeneuve-lès-Maguelone
DESCRIPTION:Collectif La Vermine Avec le soutien de Montpellier Méditerranée Métropole Fortune au comptoir, trois petites...
DTSTART:20260213T190000
DTEND:20260214
SUMMARY:Fortune au comptoir
URL;VALUE=URI:https://www.theatrejeromesavary.fr/evenement/fortune-au-comptoir/
DTSTAMP:20260420T061851
UID:69e5c54b7caac
END:VEVENT
END:VCALENDAR