BEGIN:VCALENDAR
VERSION:2.0
PRODID:-//hacksw/handcal//NONSGML v1.0//EN
CALSCALE:GREGORIAN
BEGIN:VEVENT
LOCATION:Place de l'Eglise 34750 Villeneuve-lès-Maguelone
DESCRIPTION:Caroline Melon &#8211; De chair et d&rsquo;os Autour du spectacle Veiller TardCaroline Melon nous donne...
DTSTART:20260505T190000
DTEND:20260506
SUMMARY:J’irai chercher ton coeur
URL;VALUE=URI:https://www.theatrejeromesavary.fr/evenement/jirai-chercher-ton-coeur/
DTSTAMP:20260421T144344
UID:69e78d20e48c2
END:VEVENT
END:VCALENDAR