BEGIN:VCALENDAR
VERSION:2.0
PRODID:-//hacksw/handcal//NONSGML v1.0//EN
CALSCALE:GREGORIAN
BEGIN:VEVENT
LOCATION:Place de l'Eglise 34750 Villeneuve-lès-Maguelone
DESCRIPTION:Nastassja Martin Autour de la création en cours BrèchesNastassja Martin nous ouvre les portes de...
DTSTART:20260520T190000
DTEND:20260521
SUMMARY:Rencontre littéraire et anthropologique
URL;VALUE=URI:https://www.theatrejeromesavary.fr/evenement/rencontre-litteraire-et-anthropologique/
DTSTAMP:20260421T145033
UID:69e78eb901119
END:VEVENT
END:VCALENDAR